BEGIN:VCALENDAR
VERSION:2.0
PRODID:-//Internal Family Systems Australia - ECPv4.8.2//NONSGML v1.0//EN
CALSCALE:GREGORIAN
METHOD:PUBLISH
X-WR-CALNAME:Internal Family Systems Australia
X-ORIGINAL-URL:https://www.internalfamilysystemstrainingaustralia.com.au
X-WR-CALDESC:Events for Internal Family Systems Australia
BEGIN:VEVENT
DTSTART;TZID=Australia/Melbourne:20191103T083000
DTEND;TZID=Australia/Melbourne:20200214T173000
DTSTAMP:20200229T095906
CREATED:20190612T000909Z
LAST-MODIFIED:20191126T042817Z
UID:1035-1572769800-1581701400@www.internalfamilysystemstrainingaustralia.com.au
SUMMARY:Level 2 IFS Training (2nd Cohort) - November 2019 and February 2020
DESCRIPTION:  \nIn this official CSL Level 2 training you will extend yourself in the Internal Family Systems Therapy (IFS) model of psychotherapy. Israel-based Senior Trainer Einat Bronstein LCSW MSW will teach IFS Institute’s Level Two training over the course of two 5-day weeks: November 3rd-7th. 2019 non-residential in central Melbourne\, and February 10-14th\, 2020 residential/live-in to the north of Sydney. Participants must have completed Level 1 to enrol here. \n  \nWeek 1 – November 3-7th\, 2019 (non-residential) \n Abbottsford Convent\, Abbotsford in central Melbourne\, Victoria. \nWeek 2  – February 10-14th\, 2020 (live-in/residential) \n St Joseph’s Centre\, Baulkham Hills\, Norwest\, NSW. \n  \nThis L2 course will offer you an IFS curriculum that builds on your Level 1 experiences. It features a similar format including didactic\, video review\, and large group experiential and small group practice elements supported by experienced assistants. Like the Level 1 training\, this Level 2 Intensive gives equal weight to didactic and experiential learning. \n  \n \nEinat Avni Bronstein\, MSW\, LCSW \nWith a Law degree at Tel Aviv University\, Israel\, and Masters in Clinical Social Work at Washington University in St Louis\, MO\, USA\, Einat learnt with Dick Schwartz and practiced IFS from its early years in Chicago. She graduated from Level 1\, 2 and 3 IFS trainings; a Lead Trainer\, an IFS supervisor and a Certified IFS Therapist with over 25 years of clinical experience in private practice. \n  \nThe training: \n\nConcentrates on the challenges of treating clients who have extremely protective systems and/or have experienced childhood trauma.\nFocuses on expanding the participant’s knowledge of essential processes unique to IFS\, such as working with internal polarizations\, working with dangerious firefighters\, and unburdening.\nEmphasizes the importance of the therapeutic relationship by deepening the participant’s awareness of and relationship to their own parts.\nEmphasizes the importance of the Self in both the client and therapist\, and includes many opportunities for self-exploration.\n\n  \nWorkshop Fees \n  \n– $6\,950 (general tickets\, including residential 5-day 2nd week)\n– $5\,950 (public funded employees in registered DGR status organisations/ FT students – discounted tickets including residential 5-day 2nd week) \n  \nTo receive the certificate of attendance you must attend BOTH weeks of training and the Saturday/Sunday dates TBC teleconferences (90-120min). For requirements to be certified as either an IFS Therapist or an IFS Practitioner see the CSL website \n For further details including pricing click here\n  \n
URL:https://www.internalfamilysystemstrainingaustralia.com.au/event/level-2-ifs-training-2nd-cohort-november-2019-and-february-2020/
CATEGORIES:Workshop
ATTACH;FMTTYPE=image/png:https://www.internalfamilysystemstrainingaustralia.com.au/wp-content/uploads/2018/03/cls-logo.png
END:VEVENT
END:VCALENDAR